BEGIN:VCALENDAR
VERSION:2.0
PRODID:-//kapelle am urban - ECPv4.1.1//NONSGML v1.0//EN
CALSCALE:GREGORIAN
METHOD:PUBLISH
X-WR-CALNAME:kapelle am urban
X-ORIGINAL-URL:http://kapelle-am-urban.de
X-WR-CALDESC:Events for kapelle am urban
BEGIN:VEVENT
DTSTART;TZID=UTC+2:20160626T190000
DTEND;TZID=UTC+2:20160626T220000
DTSTAMP:20260422T183623
CREATED:20160522T162251
LAST-MODIFIED:20160522T162251
UID:972-1466967600-1466978400@kapelle-am-urban.de
SUMMARY:Trance Tanz Ritual
DESCRIPTION:willkommen zu einem Tanz-Raum\, einer Reise\, dich ganz zu erfahren\, mit allem was sein möchte und sich ausdrücken will.\n\nTrance ist ein uns innewohnender Zustand\, indem wir erfahren\, dass alles in uns ist\, was wir brauchen\, um Heilung geschehen zu lassen. Wenn der Körper sich bewegt\, ohne kontrolliert zu werden\, erreichen wir tiefe Schichten von uns selbst - die Seele fängt an zu tanzen.\n\nEs wird mit Augenbinde (Bandana) getanzt. Unterstützt von der Dunkelheit\, mit dem Feueratem\, rhythmischer Musik und der Bewegung unseres Körpers gehen wir auf Reise.\n\nWir tanzen zusammen\, doch jeder in sich - für sich.\n\nEs werden keine Vorkenntnisse oder Tanzerfahrungen benötigt\, einfach nur Lust sich zu bewegen und die Neugier sich selbst tiefer zu erfahren.\n\nweitere Informationen & sowie Anmeldung bitte per email steffi.jandt@gmx.de\n\nBeginn: 19:00Uhr\n\nKosten: 10€+\n\n 
URL:http://kapelle-am-urban.de/event/trance-tanz-ritual/
ORGANIZER;CN="Steffi%20Jandt":MAILTO:steffi.jandt@gmx.de
END:VEVENT
END:VCALENDAR